BEGIN:VCALENDAR
VERSION:2.0
PRODID:-//hacksw/handcal//NONSGML v1.0//EN
BEGIN:VEVENT
SUMMARY:ML(M1) Vs ES Colombienne
UID:4c8de4a8-85ea-4395-8199-bc81993c42fb
DTSTART:20260509T180000Z
DTEND:20260509T201500Z
LOCATION:Palais Omnisports 18 rue de la Digue 78600 maisons-Laffitte
CATEGORIES:Sportif
STATUS:
URL;VALUE=URI:https://www.maisons-laffitte-hb.com/evenements/2026/05/09/mlm1-vs-es-colombienne-2443006
END:VEVENT
END:VCALENDAR
