BEGIN:VCALENDAR
VERSION:2.0
PRODID:-//hacksw/handcal//NONSGML v1.0//EN
BEGIN:VEVENT
SUMMARY:Houdan Vs ML(M2)
UID:17055102-15b8-45ee-bb84-73f8ba7f885e
DTSTART:20260507T191500Z
DTEND:20260507T210000Z
LOCATION:Localisation   
CATEGORIES:Sportif
STATUS:
URL;VALUE=URI:https://www.maisons-laffitte-hb.com/evenements/2026/05/07/houdan-vs-mlm2-2443005
END:VEVENT
END:VCALENDAR
