BEGIN:VCALENDAR
VERSION:2.0
PRODID:-//hacksw/handcal//NONSGML v1.0//EN
BEGIN:VEVENT
SUMMARY:Vernouillet Vs ML(U13)
UID:5d15f2d2-907b-4412-a7c3-728e2d7d08ba
DTSTART:20260418T120000Z
DTEND:20260418T140000Z
LOCATION:Localisation   
CATEGORIES:Sportif
STATUS:
URL;VALUE=URI:https://www.maisons-laffitte-hb.com/evenements/2026/04/18/vernouillet-vs-mlu13-2443001
END:VEVENT
END:VCALENDAR
